BEGIN:VCALENDAR
VERSION:2.0
PRODID:-//Town of Medary - ECPv6.15.17//NONSGML v1.0//EN
CALSCALE:GREGORIAN
METHOD:PUBLISH
X-WR-CALNAME:Town of Medary
X-ORIGINAL-URL:https://townofmedary.wi.gov
X-WR-CALDESC:Events for Town of Medary
REFRESH-INTERVAL;VALUE=DURATION:PT1H
X-Robots-Tag:noindex
X-PUBLISHED-TTL:PT1H
BEGIN:VTIMEZONE
TZID:UTC
BEGIN:STANDARD
TZOFFSETFROM:+0000
TZOFFSETTO:+0000
TZNAME:UTC
DTSTART:20250101T000000
END:STANDARD
END:VTIMEZONE
BEGIN:VEVENT
DTSTART;TZID=UTC:20260310T190000
DTEND;TZID=UTC:20260310T200000
DTSTAMP:20260422T230315
CREATED:20260220T141905Z
LAST-MODIFIED:20260220T141916Z
UID:2337-1773169200-1773172800@townofmedary.wi.gov
SUMMARY:Town Board Meeting
DESCRIPTION:
URL:https://townofmedary.wi.gov/event/town-board-meeting-11/
END:VEVENT
BEGIN:VEVENT
DTSTART;TZID=UTC:20260319T160000
DTEND;TZID=UTC:20260319T180000
DTSTAMP:20260422T230315
CREATED:20260220T141541Z
LAST-MODIFIED:20260220T141549Z
UID:2335-1773936000-1773943200@townofmedary.wi.gov
SUMMARY:Special Board Meeting - Financial Review
DESCRIPTION:
URL:https://townofmedary.wi.gov/event/special-board-meeting-financial-review-3/
END:VEVENT
BEGIN:VEVENT
DTSTART;TZID=UTC:20260324T080000
DTEND;TZID=UTC:20260324T110000
DTSTAMP:20260422T230315
CREATED:20260220T142233Z
LAST-MODIFIED:20260220T142238Z
UID:2341-1774339200-1774350000@townofmedary.wi.gov
SUMMARY:In Person Absentee voting
DESCRIPTION:
URL:https://townofmedary.wi.gov/event/in-person-absentee-voting/
END:VEVENT
BEGIN:VEVENT
DTSTART;TZID=UTC:20260326T150000
DTEND;TZID=UTC:20260326T180000
DTSTAMP:20260422T230315
CREATED:20260220T142433Z
LAST-MODIFIED:20260220T143137Z
UID:2345-1774537200-1774548000@townofmedary.wi.gov
SUMMARY:In Person Absentee voting
DESCRIPTION:
URL:https://townofmedary.wi.gov/event/in-person-absentee-voting-3/
END:VEVENT
BEGIN:VEVENT
DTSTART;TZID=UTC:20260327T080000
DTEND;TZID=UTC:20260327T110000
DTSTAMP:20260422T230315
CREATED:20260220T142336Z
LAST-MODIFIED:20260220T142336Z
UID:2343-1774598400-1774609200@townofmedary.wi.gov
SUMMARY:In Person Absentee voting
DESCRIPTION:
URL:https://townofmedary.wi.gov/event/in-person-absentee-voting-2/
END:VEVENT
BEGIN:VEVENT
DTSTART;TZID=UTC:20260328T080000
DTEND;TZID=UTC:20260328T170000
DTSTAMP:20260422T230315
CREATED:20260220T142029Z
LAST-MODIFIED:20260220T142036Z
UID:2339-1774684800-1774717200@townofmedary.wi.gov
SUMMARY:Special Board Meeting - Road Tour
DESCRIPTION:
URL:https://townofmedary.wi.gov/event/special-board-meeting-road-tour/
END:VEVENT
BEGIN:VEVENT
DTSTART;TZID=UTC:20260331T080000
DTEND;TZID=UTC:20260331T110000
DTSTAMP:20260422T230315
CREATED:20260220T142536Z
LAST-MODIFIED:20260220T142551Z
UID:2347-1774944000-1774954800@townofmedary.wi.gov
SUMMARY:In Person Abentee voting
DESCRIPTION:
URL:https://townofmedary.wi.gov/event/in-person-abentee-voting/
END:VEVENT
END:VCALENDAR