BEGIN:VCALENDAR
VERSION:2.0
PRODID:-//Town of Medary - ECPv6.15.17//NONSGML v1.0//EN
CALSCALE:GREGORIAN
METHOD:PUBLISH
X-WR-CALNAME:Town of Medary
X-ORIGINAL-URL:https://townofmedary.wi.gov
X-WR-CALDESC:Events for Town of Medary
REFRESH-INTERVAL;VALUE=DURATION:PT1H
X-Robots-Tag:noindex
X-PUBLISHED-TTL:PT1H
BEGIN:VTIMEZONE
TZID:UTC
BEGIN:STANDARD
TZOFFSETFROM:+0000
TZOFFSETTO:+0000
TZNAME:UTC
DTSTART:20230101T000000
END:STANDARD
END:VTIMEZONE
BEGIN:VEVENT
DTSTART;TZID=UTC:20250825T160000
DTEND;TZID=UTC:20250825T170000
DTSTAMP:20260420T152359
CREATED:20250819T143401Z
LAST-MODIFIED:20250819T143402Z
UID:2148-1756137600-1756141200@townofmedary.wi.gov
SUMMARY:Special Board Meeting
DESCRIPTION:
URL:https://townofmedary.wi.gov/event/special-board-meeting-5/
END:VEVENT
BEGIN:VEVENT
DTSTART;TZID=UTC:20250815T160000
DTEND;TZID=UTC:20250815T170000
DTSTAMP:20260420T152359
CREATED:20250813T122241Z
LAST-MODIFIED:20250813T122242Z
UID:2142-1755273600-1755277200@townofmedary.wi.gov
SUMMARY:Special Board Meeting
DESCRIPTION:
URL:https://townofmedary.wi.gov/event/special-board-meeting-4/
END:VEVENT
BEGIN:VEVENT
DTSTART;TZID=UTC:20250812T190000
DTEND;TZID=UTC:20250812T203000
DTSTAMP:20260420T152359
CREATED:20250808T135138Z
LAST-MODIFIED:20250808T135145Z
UID:2135-1755025200-1755030600@townofmedary.wi.gov
SUMMARY:Town Board Meeting
DESCRIPTION:
URL:https://townofmedary.wi.gov/event/town-board-meeting-5/
END:VEVENT
BEGIN:VEVENT
DTSTART;TZID=UTC:20250809T120000
DTEND;TZID=UTC:20250809T160000
DTSTAMP:20260420T152359
CREATED:20250509T142532Z
LAST-MODIFIED:20250509T142749Z
UID:2083-1754740800-1754755200@townofmedary.wi.gov
SUMMARY:Medary Family Fun Day
DESCRIPTION:
URL:https://townofmedary.wi.gov/event/town-board-meeting-2/
END:VEVENT
BEGIN:VEVENT
DTSTART;TZID=UTC:20250708T190000
DTEND;TZID=UTC:20250708T203000
DTSTAMP:20260420T152359
CREATED:20250706T215745Z
LAST-MODIFIED:20250706T215749Z
UID:2122-1752001200-1752006600@townofmedary.wi.gov
SUMMARY:Town Board Meeting
DESCRIPTION:
URL:https://townofmedary.wi.gov/event/town-board-meeting-3/
END:VEVENT
BEGIN:VEVENT
DTSTART;TZID=UTC:20250623T160000
DTEND;TZID=UTC:20250623T170000
DTSTAMP:20260420T152359
CREATED:20250620T150633Z
LAST-MODIFIED:20250620T150649Z
UID:2116-1750694400-1750698000@townofmedary.wi.gov
SUMMARY:Special Board Meeting
DESCRIPTION:
URL:https://townofmedary.wi.gov/event/special-board-meeting-3/
END:VEVENT
BEGIN:VEVENT
DTSTART;TZID=UTC:20250610T190000
DTEND;TZID=UTC:20250610T203000
DTSTAMP:20260420T152359
CREATED:20250513T160401Z
LAST-MODIFIED:20250513T160505Z
UID:2092-1749582000-1749587400@townofmedary.wi.gov
SUMMARY:JUNE Town Board Meeting
DESCRIPTION:JUNE Meeting: Stop by to listen and ask questions to your Board Supervisors. See June’s agenda for more details…
URL:https://townofmedary.wi.gov/event/june-town-board-meeting/
LOCATION:Town Hall\, N3393 Smith Valley Rd\, La Crosse\, WI\, 54601\, United States
CATEGORIES:Board Meeting
END:VEVENT
BEGIN:VEVENT
DTSTART;TZID=UTC:20250513T190000
DTEND;TZID=UTC:20250513T200000
DTSTAMP:20260420T152359
CREATED:20250513T155758Z
LAST-MODIFIED:20250513T160436Z
UID:2090-1747162800-1747166400@townofmedary.wi.gov
SUMMARY:MAY Town Board Meeting
DESCRIPTION:Take part in improving our Town of Medary. See meeting agenda for more details!
URL:https://townofmedary.wi.gov/event/town-board-meeting-4/
LOCATION:Town Hall\, N3393 Smith Valley Rd\, La Crosse\, WI\, 54601\, United States
CATEGORIES:Board Meeting
END:VEVENT
BEGIN:VEVENT
DTSTART;TZID=UTC:20250423T183000
DTEND;TZID=UTC:20250423T193000
DTSTAMP:20260420T152359
CREATED:20250411T141526Z
LAST-MODIFIED:20250411T141536Z
UID:2071-1745433000-1745436600@townofmedary.wi.gov
SUMMARY:Medary Fun Day Meeting
DESCRIPTION:
URL:https://townofmedary.wi.gov/event/medary-fun-day-meeting/
END:VEVENT
BEGIN:VEVENT
DTSTART;TZID=UTC:20250415T190000
DTEND;TZID=UTC:20250415T190000
DTSTAMP:20260420T152359
CREATED:20250313T223018Z
LAST-MODIFIED:20250328T212136Z
UID:2034-1744743600-1744743600@townofmedary.wi.gov
SUMMARY:ANNUAL MEETING OF ELECTORS - MONTHLY TOWN BOARD MEETING TO FOLLOW
DESCRIPTION:
URL:https://townofmedary.wi.gov/event/in-person-voting-begins-during-office-hours/
END:VEVENT
BEGIN:VEVENT
DTSTART;TZID=UTC:20250412T083000
DTEND;TZID=UTC:20250412T123000
DTSTAMP:20260420T152359
CREATED:20250328T211336Z
LAST-MODIFIED:20250328T211539Z
UID:2055-1744446600-1744461000@townofmedary.wi.gov
SUMMARY:LARGE ITEM COLLECTION
DESCRIPTION:
URL:https://townofmedary.wi.gov/event/election-day-2/
END:VEVENT
BEGIN:VEVENT
DTSTART;TZID=UTC:20250401T070000
DTEND;TZID=UTC:20250401T200000
DTSTAMP:20260420T152359
CREATED:20250328T211802Z
LAST-MODIFIED:20250328T211804Z
UID:2059-1743490800-1743537600@townofmedary.wi.gov
SUMMARY:ELECTION DAY - POLLS OPEN
DESCRIPTION:
URL:https://townofmedary.wi.gov/event/election-day-polls-open/
END:VEVENT
BEGIN:VEVENT
DTSTART;TZID=UTC:20250315T080000
DTEND;TZID=UTC:20250315T080000
DTSTAMP:20260420T152359
CREATED:20250307T155632Z
LAST-MODIFIED:20250307T155821Z
UID:2026-1742025600-1742025600@townofmedary.wi.gov
SUMMARY:Special Board Meeting - Road Tour
DESCRIPTION:
URL:https://townofmedary.wi.gov/event/special-board-meeting-financial-review/
END:VEVENT
BEGIN:VEVENT
DTSTART;TZID=UTC:20250314T080000
DTEND;TZID=UTC:20250314T170000
DTSTAMP:20260420T152359
CREATED:20250211T165648Z
LAST-MODIFIED:20250211T165750Z
UID:1998-1741939200-1741971600@townofmedary.wi.gov
SUMMARY:Board of Review training
DESCRIPTION:Town of Medary elected officials will attend WTA sponsored training to stay up-to-date on any legislative changes pertaining to Board of Review procedures.
URL:https://townofmedary.wi.gov/event/board-of-review-training/
CATEGORIES:Board of Review
END:VEVENT
BEGIN:VEVENT
DTSTART;TZID=UTC:20250313T160000
DTEND;TZID=UTC:20250313T160000
DTSTAMP:20260420T152359
CREATED:20250307T160031Z
LAST-MODIFIED:20250307T160037Z
UID:2030-1741881600-1741881600@townofmedary.wi.gov
SUMMARY:Special Board Meeting - Financial Review
DESCRIPTION:
URL:https://townofmedary.wi.gov/event/special-board-meeting-financial-review-2/
END:VEVENT
BEGIN:VEVENT
DTSTART;TZID=UTC:20250311T190000
DTEND;TZID=UTC:20250311T200000
DTSTAMP:20260420T152359
CREATED:20250211T170047Z
LAST-MODIFIED:20250211T170049Z
UID:2000-1741719600-1741723200@townofmedary.wi.gov
SUMMARY:Board Meeting- March 2025
DESCRIPTION:All Town of Medary and welcomed and encouraged to attend! Stop by and learn about our town happenings\, updates\, citizen concerns\, etc.
URL:https://townofmedary.wi.gov/event/board-meeting-march-2025/
LOCATION:Town Hall\, N3393 Smith Valley Rd\, La Crosse\, WI\, 54601\, United States
CATEGORIES:Board Meeting
END:VEVENT
BEGIN:VEVENT
DTSTART;TZID=UTC:20250220T163000
DTEND;TZID=UTC:20250220T173000
DTSTAMP:20260420T152359
CREATED:20250219T142419Z
LAST-MODIFIED:20250219T142421Z
UID:2008-1740069000-1740072600@townofmedary.wi.gov
SUMMARY:Special meeting- contracts review
DESCRIPTION:
URL:https://townofmedary.wi.gov/event/special-meeting-contracts-review/
LOCATION:Town Hall\, N3393 Smith Valley Rd\, La Crosse\, WI\, 54601\, United States
CATEGORIES:Special Board Meeting
END:VEVENT
BEGIN:VEVENT
DTSTART;TZID=UTC:20250219T183000
DTEND;TZID=UTC:20250219T193000
DTSTAMP:20260420T152359
CREATED:20250217T130331Z
LAST-MODIFIED:20250217T130356Z
UID:2003-1739989800-1739993400@townofmedary.wi.gov
SUMMARY:Medary fun day committee
DESCRIPTION:Attention all town residents! Looking for an opportunity to collaborate with your fellow neighbors? Stop by this Wednesday and help us plan this year’s Fun Day: a social gathering for the whole family! Hope to see you there
URL:https://townofmedary.wi.gov/event/medary-fun-day-committee/
LOCATION:Town Hall\, N3393 Smith Valley Rd\, La Crosse\, WI\, 54601\, United States
CATEGORIES:Community events
END:VEVENT
BEGIN:VEVENT
DTSTART;TZID=UTC:20250218T070000
DTEND;TZID=UTC:20250218T200000
DTSTAMP:20260420T152359
CREATED:20250210T182040Z
LAST-MODIFIED:20250219T142231Z
UID:1996-1739862000-1739908800@townofmedary.wi.gov
SUMMARY:2025 Spring Primary
DESCRIPTION:For more information on what’s on the ballot\, visit https://myvote.wi.gov/en-us/ \, or contact our clerk with your questions!
URL:https://townofmedary.wi.gov/event/2025-spring-primary/
LOCATION:Town Hall\, N3393 Smith Valley Rd\, La Crosse\, WI\, 54601\, United States
CATEGORIES:Elections
END:VEVENT
BEGIN:VEVENT
DTSTART;TZID=UTC:20250211T190000
DTEND;TZID=UTC:20250211T200000
DTSTAMP:20260420T152359
CREATED:20250210T181258Z
LAST-MODIFIED:20250210T181300Z
UID:1989-1739300400-1739304000@townofmedary.wi.gov
SUMMARY:February's Town Board
DESCRIPTION:All residents and welcomed and encouraged to attend! See agenda for items to be discussed
URL:https://townofmedary.wi.gov/event/februarys-town-board/
LOCATION:Town Hall\, N3393 Smith Valley Rd\, La Crosse\, WI\, 54601\, United States
CATEGORIES:Board Meeting
ATTACH;FMTTYPE=image/png:https://townofmedary.wi.gov/wp-content/uploads/2025/02/public-5478139_640.png
END:VEVENT
BEGIN:VEVENT
DTSTART;TZID=UTC:20250211T173000
DTEND;TZID=UTC:20250211T183000
DTSTAMP:20260420T152359
CREATED:20250210T181558Z
LAST-MODIFIED:20250210T181559Z
UID:1994-1739295000-1739298600@townofmedary.wi.gov
SUMMARY:Planning Commission
DESCRIPTION:This month\, we will once again look at voting on resolution to adopt the 22025-2045 Comprehensive Plan. As always\, our meetings are open and all residents are welcome to attend!
URL:https://townofmedary.wi.gov/event/planning-commission-3/
LOCATION:Town Hall\, N3393 Smith Valley Rd\, La Crosse\, WI\, 54601\, United States
CATEGORIES:Planning Commission
ATTACH;FMTTYPE=image/png:https://townofmedary.wi.gov/wp-content/uploads/2025/02/city-map-4320755_640.png
END:VEVENT
BEGIN:VEVENT
DTSTART;TZID=UTC:20250114T190000
DTEND;TZID=UTC:20250114T201500
DTSTAMP:20260420T152359
CREATED:20250109T155811Z
LAST-MODIFIED:20250110T073855Z
UID:1936-1736881200-1736885700@townofmedary.wi.gov
SUMMARY:January's Board meeting
DESCRIPTION:All residents and welcomed and encouraged to attend! See agenda for items to be discussed
URL:https://townofmedary.wi.gov/event/januarys-board-meeting/
LOCATION:Town Hall\, N3393 Smith Valley Rd\, La Crosse\, WI\, 54601\, United States
CATEGORIES:Board Meeting
END:VEVENT
BEGIN:VEVENT
DTSTART;TZID=UTC:20250114T173000
DTEND;TZID=UTC:20250114T190000
DTSTAMP:20260420T152359
CREATED:20250109T155655Z
LAST-MODIFIED:20250109T155655Z
UID:1934-1736875800-1736881200@townofmedary.wi.gov
SUMMARY:Planning Commission meeting
DESCRIPTION:All residents and welcomed and encouraged to attend! Focus of this month’s meeting will be to approve draft resolution that recommends the approval of our new comprehensive plan (2025-2035)
URL:https://townofmedary.wi.gov/event/planning-commission-meeting-2/
LOCATION:Town Hall\, N3393 Smith Valley Rd\, La Crosse\, WI\, 54601\, United States
CATEGORIES:Planning Commission
END:VEVENT
BEGIN:VEVENT
DTSTART;TZID=UTC:20241217T173000
DTEND;TZID=UTC:20241217T190000
DTSTAMP:20260420T152359
CREATED:20241204T171846Z
LAST-MODIFIED:20241204T171846Z
UID:1897-1734456600-1734462000@townofmedary.wi.gov
SUMMARY:Planning commission meeting
DESCRIPTION:All residents and welcomed and encouraged to attend! Meeting focus will be reviewing 100% draft of Comprehensive Plan
URL:https://townofmedary.wi.gov/event/planning-commission-meeting/
LOCATION:Town Hall\, N3393 Smith Valley Rd\, La Crosse\, WI\, 54601\, United States
CATEGORIES:Planning Commission
END:VEVENT
BEGIN:VEVENT
DTSTART;TZID=UTC:20241210T190000
DTEND;TZID=UTC:20241210T203000
DTSTAMP:20260420T152359
CREATED:20241204T171645Z
LAST-MODIFIED:20241204T171645Z
UID:1895-1733857200-1733862600@townofmedary.wi.gov
SUMMARY:December board meeting
DESCRIPTION:All residents are welcomed and encouraged to attend! See meeting agenda for discussion items
URL:https://townofmedary.wi.gov/event/december-board-meeting/
LOCATION:Town Hall\, N3393 Smith Valley Rd\, La Crosse\, WI\, 54601\, United States
CATEGORIES:Board Meeting
END:VEVENT
BEGIN:VEVENT
DTSTART;TZID=UTC:20241205T160000
DTEND;TZID=UTC:20241205T180000
DTSTAMP:20260420T152359
CREATED:20241204T171440Z
LAST-MODIFIED:20241204T171905Z
UID:1893-1733414400-1733421600@townofmedary.wi.gov
SUMMARY:Special Board Meeting
DESCRIPTION:Town officials will convene to review the following: \n\nTown Ordinances\nEmergency services agreement between Town and La Crosse Fire Department\nTom’s Bobcat revised contract
URL:https://townofmedary.wi.gov/event/special-board-meeting-2/
LOCATION:Town Hall\, N3393 Smith Valley Rd\, La Crosse\, WI\, 54601\, United States
CATEGORIES:Special Board Meeting
END:VEVENT
BEGIN:VEVENT
DTSTART;TZID=UTC:20241114T080000
DTEND;TZID=UTC:20241114T130000
DTSTAMP:20260420T152359
CREATED:20241114T135951Z
LAST-MODIFIED:20241114T135951Z
UID:1862-1731571200-1731589200@townofmedary.wi.gov
SUMMARY:FREE e-cycling event
DESCRIPTION:Hosted by Dynamic Lifecycle Innovations \nlocation: N5550 Dynamic Way\, Onalaska\, WI 54650 \ntime: 8:00am – 1:00pm \n 
URL:https://townofmedary.wi.gov/event/free-e-cycling-event/
CATEGORIES:Community events
END:VEVENT
BEGIN:VEVENT
DTSTART;TZID=UTC:20241112T190000
DTEND;TZID=UTC:20241112T210000
DTSTAMP:20260420T152359
CREATED:20241108T155307Z
LAST-MODIFIED:20241108T155520Z
UID:1858-1731438000-1731445200@townofmedary.wi.gov
SUMMARY:Budget hearing\, electors meeting and town board meeting - 7pm
DESCRIPTION:
URL:https://townofmedary.wi.gov/event/budget-hearing-electors-meeting-and-town-board-meeting-november-12-7pm/
END:VEVENT
BEGIN:VEVENT
DTSTART;TZID=UTC:20241112T190000
DTEND;TZID=UTC:20241112T203000
DTSTAMP:20260420T152359
CREATED:20241022T220257Z
LAST-MODIFIED:20241022T220257Z
UID:1836-1731438000-1731443400@townofmedary.wi.gov
SUMMARY:November Board meeting
DESCRIPTION:
URL:https://townofmedary.wi.gov/event/november-board-meeting/
LOCATION:Town Hall\, N3393 Smith Valley Rd\, La Crosse\, WI\, 54601\, United States
CATEGORIES:Board Meeting
END:VEVENT
BEGIN:VEVENT
DTSTART;TZID=UTC:20241112T173000
DTEND;TZID=UTC:20241112T190000
DTSTAMP:20260420T152359
CREATED:20241022T220208Z
LAST-MODIFIED:20241022T220218Z
UID:1833-1731432600-1731438000@townofmedary.wi.gov
SUMMARY:Planning commission meeting
DESCRIPTION:Regular scheduled meeting. Please see agenda for more info
URL:https://townofmedary.wi.gov/event/planning-commission-2/
LOCATION:Town Hall\, N3393 Smith Valley Rd\, La Crosse\, WI\, 54601\, United States
CATEGORIES:Planning Commission
END:VEVENT
END:VCALENDAR