BEGIN:VCALENDAR
VERSION:2.0
PRODID:-//Town of Medary - ECPv6.15.17//NONSGML v1.0//EN
CALSCALE:GREGORIAN
METHOD:PUBLISH
X-WR-CALNAME:Town of Medary
X-ORIGINAL-URL:https://townofmedary.wi.gov
X-WR-CALDESC:Events for Town of Medary
REFRESH-INTERVAL;VALUE=DURATION:PT1H
X-Robots-Tag:noindex
X-PUBLISHED-TTL:PT1H
BEGIN:VTIMEZONE
TZID:UTC
BEGIN:STANDARD
TZOFFSETFROM:+0000
TZOFFSETTO:+0000
TZNAME:UTC
DTSTART:20240101T000000
END:STANDARD
END:VTIMEZONE
BEGIN:VEVENT
DTSTART;TZID=UTC:20250114T173000
DTEND;TZID=UTC:20250114T190000
DTSTAMP:20260422T073113
CREATED:20250109T155655Z
LAST-MODIFIED:20250109T155655Z
UID:1934-1736875800-1736881200@townofmedary.wi.gov
SUMMARY:Planning Commission meeting
DESCRIPTION:All residents and welcomed and encouraged to attend! Focus of this month’s meeting will be to approve draft resolution that recommends the approval of our new comprehensive plan (2025-2035)
URL:https://townofmedary.wi.gov/event/planning-commission-meeting-2/
LOCATION:Town Hall\, N3393 Smith Valley Rd\, La Crosse\, WI\, 54601\, United States
CATEGORIES:Planning Commission
END:VEVENT
END:VCALENDAR