BEGIN:VCALENDAR
VERSION:2.0
PRODID:-//Town of Medary - ECPv6.15.17//NONSGML v1.0//EN
CALSCALE:GREGORIAN
METHOD:PUBLISH
X-WR-CALNAME:Town of Medary
X-ORIGINAL-URL:https://townofmedary.wi.gov
X-WR-CALDESC:Events for Town of Medary
REFRESH-INTERVAL;VALUE=DURATION:PT1H
X-Robots-Tag:noindex
X-PUBLISHED-TTL:PT1H
BEGIN:VTIMEZONE
TZID:UTC
BEGIN:STANDARD
TZOFFSETFROM:+0000
TZOFFSETTO:+0000
TZNAME:UTC
DTSTART:20230101T000000
END:STANDARD
END:VTIMEZONE
BEGIN:VEVENT
DTSTART;TZID=UTC:20241114T080000
DTEND;TZID=UTC:20241114T130000
DTSTAMP:20260425T190502
CREATED:20241114T135951Z
LAST-MODIFIED:20241114T135951Z
UID:1862-1731571200-1731589200@townofmedary.wi.gov
SUMMARY:FREE e-cycling event
DESCRIPTION:Hosted by Dynamic Lifecycle Innovations \nlocation: N5550 Dynamic Way\, Onalaska\, WI 54650 \ntime: 8:00am – 1:00pm \n 
URL:https://townofmedary.wi.gov/event/free-e-cycling-event/
LOCATION:WI
CATEGORIES:Community events
END:VEVENT
END:VCALENDAR